BEGIN:VCALENDAR
VERSION:2.0
PRODID:-//Asociación Argentina de Ética y Compliance - ECPv5.14.1//NONSGML v1.0//EN
CALSCALE:GREGORIAN
METHOD:PUBLISH
X-WR-CALNAME:Asociación Argentina de Ética y Compliance
X-ORIGINAL-URL:https://eticaycompliance.org
X-WR-CALDESC:Eventos para Asociación Argentina de Ética y Compliance
BEGIN:VTIMEZONE
TZID:UTC
BEGIN:STANDARD
TZOFFSETFROM:+0000
TZOFFSETTO:+0000
TZNAME:UTC
DTSTART:20230101T000000
END:STANDARD
END:VTIMEZONE
BEGIN:VEVENT
DTSTART;TZID=UTC:20231130T153000
DTEND;TZID=UTC:20231130T193000
DTSTAMP:20260422T212006
CREATED:20231019T004631Z
LAST-MODIFIED:20231110T181300Z
UID:8698-1701358200-1701372600@eticaycompliance.org
SUMMARY:VIII Congreso Internacional de Compliance de AAEC
DESCRIPTION::: COMPLIANCE DE OTRO PLANETA :: \n  \nPreparate para sorprenderte y disfrutar de un evento que te llevará a lugares inexplorados.  \n¡Los cupos presenciales son limitados y exclusivos! \n✅ Evento gratuito c/inscripción previa \nAgendá la fecha ahora y reservá tu lugar \n  \nJueves 30/11 | 15 a 15.30hs Acreditación \n15.30 a 19.30 hs Congreso | 19.30 a 21.30hs Cocktail \nModalidad: Híbrido (cupos presenciales limitados) \nPlanetario Galileo Galilei \n  \nInscribite Ahora
URL:https://eticaycompliance.org/evento/viii-congreso-internacional-de-compliance-de-aaec/
CATEGORIES:Congreso
ATTACH;FMTTYPE=image/jpeg:https://eticaycompliance.org/wp-content/uploads/2023/10/BANNER-scaled.jpg
END:VEVENT
END:VCALENDAR