BEGIN:VCALENDAR
VERSION:2.0
PRODID:-//Asociación Argentina de Ética y Compliance - ECPv5.14.1//NONSGML v1.0//EN
CALSCALE:GREGORIAN
METHOD:PUBLISH
X-WR-CALNAME:Asociación Argentina de Ética y Compliance
X-ORIGINAL-URL:https://eticaycompliance.org
X-WR-CALDESC:Eventos para Asociación Argentina de Ética y Compliance
BEGIN:VTIMEZONE
TZID:UTC
BEGIN:STANDARD
TZOFFSETFROM:+0000
TZOFFSETTO:+0000
TZNAME:UTC
DTSTART:20230101T000000
END:STANDARD
END:VTIMEZONE
BEGIN:VEVENT
DTSTART;TZID=UTC:20231114T180000
DTEND;TZID=UTC:20231114T190000
DTSTAMP:20260422T225900
CREATED:20231019T005014Z
LAST-MODIFIED:20231030T184335Z
UID:8700-1699984800-1699988400@eticaycompliance.org
SUMMARY:Comisión de Diversidad
DESCRIPTION:Isha nos acompañó en el evento lanzamiento de nuestra comisión. Desde ese momento hasta hoy ha recorrido un largo camino hacia su realización personal\, derribando barreras y con un profundo sentido de integridad arraigado en su ser interior. En esta reunión\, compartirá sus experiencias y nos hará pensar con sus reflexiones. \nPróximamente más información\n 
URL:https://eticaycompliance.org/evento/comision-de-diversidad-4/
CATEGORIES:Reunion
ATTACH;FMTTYPE=image/jpeg:https://eticaycompliance.org/wp-content/uploads/2021/03/Diversidad-Banner-nuevo.jpg
END:VEVENT
END:VCALENDAR