BEGIN:VCALENDAR
VERSION:2.0
PRODID:-//Asociación Argentina de Ética y Compliance - ECPv5.14.1//NONSGML v1.0//EN
CALSCALE:GREGORIAN
METHOD:PUBLISH
X-WR-CALNAME:Asociación Argentina de Ética y Compliance
X-ORIGINAL-URL:https://eticaycompliance.org
X-WR-CALDESC:Eventos para Asociación Argentina de Ética y Compliance
BEGIN:VTIMEZONE
TZID:UTC
BEGIN:STANDARD
TZOFFSETFROM:+0000
TZOFFSETTO:+0000
TZNAME:UTC
DTSTART:20230101T000000
END:STANDARD
END:VTIMEZONE
BEGIN:VEVENT
DTSTART;TZID=UTC:20231025T093000
DTEND;TZID=UTC:20231025T230000
DTSTAMP:20260423T003008
CREATED:20231009T145907Z
LAST-MODIFIED:20231009T161522Z
UID:8680-1698226200-1698274800@eticaycompliance.org
SUMMARY:Comisión de Compliance en Salud
DESCRIPTION:Es fundamental la atención sanitaria en poblaciones que carecen de recursos y de profesionales para ciertas patologías que demandan el diagnóstico\, la prevención y el tratamiento sin demoras. \n¿Por qué es imprescindible su abordaje? ¿Cómo hacerlo y qué rol cumple el Compliance? \nLos Dres. Aria Assefi y Maria Lourdes Crespo nos lo cuentan en una conversación imperdible. \n¡No te lo pierdas! \nInscribite Ahora\n\n\n\nPara más información\, [click aquí]
URL:https://eticaycompliance.org/evento/comision-de-data-privacy-etica-digital-8/
ATTACH;FMTTYPE=image/jpeg:https://eticaycompliance.org/wp-content/uploads/2023/10/Salud-Banner.jpg
END:VEVENT
END:VCALENDAR