BEGIN:VCALENDAR
VERSION:2.0
PRODID:-//Asociación Argentina de Ética y Compliance - ECPv5.14.1//NONSGML v1.0//EN
CALSCALE:GREGORIAN
METHOD:PUBLISH
X-WR-CALNAME:Asociación Argentina de Ética y Compliance
X-ORIGINAL-URL:https://eticaycompliance.org
X-WR-CALDESC:Eventos para Asociación Argentina de Ética y Compliance
BEGIN:VTIMEZONE
TZID:UTC
BEGIN:STANDARD
TZOFFSETFROM:+0000
TZOFFSETTO:+0000
TZNAME:UTC
DTSTART:20230101T000000
END:STANDARD
END:VTIMEZONE
BEGIN:VEVENT
DTSTART;VALUE=DATE:20231018
DTEND;VALUE=DATE:20231019
DTSTAMP:20260423T003445
CREATED:20230908T203252Z
LAST-MODIFIED:20230908T203652Z
UID:8638-1697587200-1697673599@eticaycompliance.org
SUMMARY:Día 2 | 2023 IFCA International Compliance Congress
DESCRIPTION:S A V E  T H E  D A T E\n:: CONNECTING COMPLIANCE GLOBALLY :: 2023 IFCA International Compliance Congress \nYa están abiertas las inscripciones para asistir a la cuarta edición del IFCA International Compliance Congress que se celebrará del 17 al 19 de octubre de 2023 y tendrá lugar de forma virtual.\n¡El evento organizado por las principales asociaciones de Compliance del MUNDO! \n• 3 días de aprendizaje y participación\n• 12 asociaciones miembro globales\n• 5 continentes\n• Paneles y entrevistas con oradores líderes de pensamiento globales certificados \n¡30 días de acceso a las grabaciones de las sesiones para poder volver a ver el contenido! \n¡Si sos Asociado AAEC\, tu entrada tiene descuento! \nConocé más
URL:https://eticaycompliance.org/evento/dia-2-2023-ifca-international-compliance-congress/
ATTACH;FMTTYPE=image/jpeg:https://eticaycompliance.org/wp-content/uploads/2023/09/IFCA-Web-banner-820x312-100-Image-3.jpeg
END:VEVENT
END:VCALENDAR