BEGIN:VCALENDAR
VERSION:2.0
PRODID:-//Asociación Argentina de Ética y Compliance - ECPv5.14.1//NONSGML v1.0//EN
CALSCALE:GREGORIAN
METHOD:PUBLISH
X-WR-CALNAME:Asociación Argentina de Ética y Compliance
X-ORIGINAL-URL:https://eticaycompliance.org
X-WR-CALDESC:Eventos para Asociación Argentina de Ética y Compliance
BEGIN:VTIMEZONE
TZID:UTC
BEGIN:STANDARD
TZOFFSETFROM:+0000
TZOFFSETTO:+0000
TZNAME:UTC
DTSTART:20230101T000000
END:STANDARD
END:VTIMEZONE
BEGIN:VEVENT
DTSTART;TZID=UTC:20230831T090000
DTEND;TZID=UTC:20230831T103000
DTSTAMP:20260423T021725
CREATED:20230404T165116Z
LAST-MODIFIED:20230828T153315Z
UID:8290-1693472400-1693477800@eticaycompliance.org
SUMMARY:Club del Compliance Officer
DESCRIPTION:Llegan los tiempos de Planeamiento. Los invitamos a analizar juntos la Matriz de Riesgos 2023 -2024\, informes de riesgos globales con impacto en nuestra planificación estratégica\, compartir Best Practices en nuestra profesión y los problemas que nos preocupan. \n\n¡Los esperamos CECs! \n  \nInscribite Ahora
URL:https://eticaycompliance.org/evento/club-del-compliance-officer-17/
CATEGORIES:Reunion
ATTACH;FMTTYPE=image/jpeg:https://eticaycompliance.org/wp-content/uploads/2023/04/CCO-Banner-1.jpg
END:VEVENT
END:VCALENDAR