BEGIN:VCALENDAR
VERSION:2.0
PRODID:-//Asociación Argentina de Ética y Compliance - ECPv5.14.1//NONSGML v1.0//EN
CALSCALE:GREGORIAN
METHOD:PUBLISH
X-WR-CALNAME:Asociación Argentina de Ética y Compliance
X-ORIGINAL-URL:https://eticaycompliance.org
X-WR-CALDESC:Eventos para Asociación Argentina de Ética y Compliance
BEGIN:VTIMEZONE
TZID:UTC
BEGIN:STANDARD
TZOFFSETFROM:+0000
TZOFFSETTO:+0000
TZNAME:UTC
DTSTART:20230101T000000
END:STANDARD
END:VTIMEZONE
BEGIN:VEVENT
DTSTART;TZID=UTC:20230726T173000
DTEND;TZID=UTC:20230726T190000
DTSTAMP:20260423T055717
CREATED:20230707T185626Z
LAST-MODIFIED:20230711T144324Z
UID:8473-1690392600-1690398000@eticaycompliance.org
SUMMARY:Comisión de Data Privacy & Ética Digital
DESCRIPTION:Discutiremos sobre el Nuevo Proyecto de Ley de Protección de Datos Personales\, elevado al Congreso el viernes 30 de junio por el Poder Ejecutivo Nacional. \n¡Te esperamos! \n  \nInscribite Ahora
URL:https://eticaycompliance.org/evento/comision-de-data-privacy-etica-digital-5/
CATEGORIES:Congreso
ATTACH;FMTTYPE=image/jpeg:https://eticaycompliance.org/wp-content/uploads/2023/07/Data-Privacy-Banner.jpg
END:VEVENT
END:VCALENDAR