BEGIN:VCALENDAR
VERSION:2.0
PRODID:-//Asociación Argentina de Ética y Compliance - ECPv5.14.1//NONSGML v1.0//EN
CALSCALE:GREGORIAN
METHOD:PUBLISH
X-WR-CALNAME:Asociación Argentina de Ética y Compliance
X-ORIGINAL-URL:https://eticaycompliance.org
X-WR-CALDESC:Eventos para Asociación Argentina de Ética y Compliance
BEGIN:VTIMEZONE
TZID:UTC
BEGIN:STANDARD
TZOFFSETFROM:+0000
TZOFFSETTO:+0000
TZNAME:UTC
DTSTART:20230101T000000
END:STANDARD
END:VTIMEZONE
BEGIN:VEVENT
DTSTART;TZID=UTC:20230705T093000
DTEND;TZID=UTC:20230705T110000
DTSTAMP:20260423T054440
CREATED:20230628T193221Z
LAST-MODIFIED:20230628T193312Z
UID:8410-1688549400-1688554800@eticaycompliance.org
SUMMARY:Comisión de Compliance Penal Estratégico
DESCRIPTION:¿Cómo se combate la Inteligencia Artificial puesta al servicio del crimen? Imágenes y videos falsos\, voces clonadas\, ¿pueden desenmascararse a tiempo? ¿Ya se están implementando para cometer delitos? ¿Hay igualdad de armas entre los delincuentes tecnológicos y los investigadores policiales/judiciales? ¿Qué casos pueden comentarse? \n¡No te lo pierdas! \n  \nInscribite Ahora
URL:https://eticaycompliance.org/evento/comision-de-compliance-penal-estrategico-3/
ATTACH;FMTTYPE=image/jpeg:https://eticaycompliance.org/wp-content/uploads/2023/06/Penal-Banner.jpg
END:VEVENT
END:VCALENDAR