BEGIN:VCALENDAR
VERSION:2.0
PRODID:-//Asociación Argentina de Ética y Compliance - ECPv5.14.1//NONSGML v1.0//EN
CALSCALE:GREGORIAN
METHOD:PUBLISH
X-WR-CALNAME:Asociación Argentina de Ética y Compliance
X-ORIGINAL-URL:https://eticaycompliance.org
X-WR-CALDESC:Eventos para Asociación Argentina de Ética y Compliance
BEGIN:VTIMEZONE
TZID:UTC
BEGIN:STANDARD
TZOFFSETFROM:+0000
TZOFFSETTO:+0000
TZNAME:UTC
DTSTART:20190101T000000
END:STANDARD
END:VTIMEZONE
BEGIN:VEVENT
DTSTART;TZID=UTC:20191016T183000
DTEND;TZID=UTC:20191016T210000
DTSTAMP:20260421T143602
CREATED:20191009T164052Z
LAST-MODIFIED:20191009T164052Z
UID:5002-1571250600-1571259600@eticaycompliance.org
SUMMARY:Pemios FLOR a la Diversidad 2019 - 4ta edición
DESCRIPTION:Inscribite acá 👇\nButton
URL:https://eticaycompliance.org/evento/pemios-flor-a-la-diversidad-2019-4ta-edicion/
LOCATION:Palacio de las Aguas\, Riobamba 750\, Buenos Aires\, Buenos Aires\, Argentina
ATTACH;FMTTYPE=image/png:https://eticaycompliance.org/wp-content/uploads/2019/10/Flor_Save-the-date.png
END:VEVENT
END:VCALENDAR