BEGIN:VCALENDAR
VERSION:2.0
PRODID:-//Asociación Argentina de Ética y Compliance - ECPv5.14.1//NONSGML v1.0//EN
CALSCALE:GREGORIAN
METHOD:PUBLISH
X-WR-CALNAME:Asociación Argentina de Ética y Compliance
X-ORIGINAL-URL:https://eticaycompliance.org
X-WR-CALDESC:Eventos para Asociación Argentina de Ética y Compliance
BEGIN:VTIMEZONE
TZID:UTC
BEGIN:STANDARD
TZOFFSETFROM:+0000
TZOFFSETTO:+0000
TZNAME:UTC
DTSTART:20170101T000000
END:STANDARD
END:VTIMEZONE
BEGIN:VEVENT
DTSTART;TZID=UTC:20170628T090000
DTEND;TZID=UTC:20170628T103000
DTSTAMP:20260421T143031
CREATED:20170621T211002Z
LAST-MODIFIED:20170621T211101Z
UID:3376-1498640400-1498645800@eticaycompliance.org
SUMMARY:Compliance en la Industria de las Especialidades Medicinales y Dispositivos Médicos
DESCRIPTION:
URL:https://eticaycompliance.org/evento/compliance-en-la-industria-de-las-especialidades-medicinales-y-dispositivos-medicos/
LOCATION:Auditorio BDO Argentina\, Maipú 942\, Ciudad Autonoma de Buenos Aires\, Buenos Aires\, Argentina
CATEGORIES:Encuentro
END:VEVENT
END:VCALENDAR