BEGIN:VCALENDAR
VERSION:2.0
PRODID:-//Asociación Argentina de Ética y Compliance - ECPv5.14.1//NONSGML v1.0//EN
CALSCALE:GREGORIAN
METHOD:PUBLISH
X-WR-CALNAME:Asociación Argentina de Ética y Compliance
X-ORIGINAL-URL:https://eticaycompliance.org
X-WR-CALDESC:Eventos para Asociación Argentina de Ética y Compliance
BEGIN:VTIMEZONE
TZID:America/Argentina/Buenos_Aires
BEGIN:STANDARD
TZOFFSETFROM:-0300
TZOFFSETTO:-0300
TZNAME:-03
DTSTART:20190101T000000
END:STANDARD
END:VTIMEZONE
BEGIN:VEVENT
DTSTART;TZID=America/Argentina/Buenos_Aires:20190927T183000
DTEND;TZID=America/Argentina/Buenos_Aires:20190927T203000
DTSTAMP:20260421T143355
CREATED:20190912T172124Z
LAST-MODIFIED:20191009T160713Z
UID:4928-1569609000-1569616200@eticaycompliance.org
SUMMARY:Comisión de Sistemas de Gestión de Compliance
DESCRIPTION:El pasado 27 de septiembre se realizó en McEwan\, el segundo encuentro del año de la Comisión de Sistemas de Gestión de Compliance. El speaker invitado\, el Ing. Jorge Gadze\, propuso abordar la Implementación de un Programa de Compliance como proyecto\, considerando el riesgo del proyecto como tal\, la incertidumbre y la complejidad que implica. Se debatió acerca de los procesos y las herramientas de Gestión de Riesgo. Un interesante enfoque de un tema ya por todos conocido\, que ha brindado nuevos elementos para su mejor conducción. \nAgradecemos a McEwan por recibirnos y a todo el público por su activa participación y sus destacables aportes. \n   \n 
URL:https://eticaycompliance.org/evento/comision-de-sistemas-de-gestion-de-compliance-3/
LOCATION:Mc Ewan\, Av. Del Libertador 498\, Ciudad Autónoma de Buenos Aires\, Argentina
CATEGORIES:Reunion
ATTACH;FMTTYPE=image/jpeg:https://eticaycompliance.org/wp-content/uploads/2019/09/Banner-5.jpg
END:VEVENT
END:VCALENDAR