BEGIN:VCALENDAR
VERSION:2.0
PRODID:-//Asociación Argentina de Ética y Compliance - ECPv5.14.1//NONSGML v1.0//EN
CALSCALE:GREGORIAN
METHOD:PUBLISH
X-WR-CALNAME:Asociación Argentina de Ética y Compliance
X-ORIGINAL-URL:https://eticaycompliance.org
X-WR-CALDESC:Eventos para Asociación Argentina de Ética y Compliance
BEGIN:VTIMEZONE
TZID:UTC
BEGIN:STANDARD
TZOFFSETFROM:+0000
TZOFFSETTO:+0000
TZNAME:UTC
DTSTART:20230101T000000
END:STANDARD
END:VTIMEZONE
BEGIN:VEVENT
DTSTART;TZID=UTC:20231108T170000
DTEND;TZID=UTC:20231108T180000
DTSTAMP:20260422T232122
CREATED:20231019T003640Z
LAST-MODIFIED:20231019T003640Z
UID:8692-1699462800-1699466400@eticaycompliance.org
SUMMARY:Comisión de Gestión del Fraude Corporativo
DESCRIPTION:El escenario de América Latina respecto de investigaciones de fraude y corrupción transfronterizas plantea desafíos apasionantes y oportunidades únicas para los Compliance Officers. Junto a expertos de la región\, exploraremos las tendencias más importantes\, destacando casos reales y brindando ideas clave sobre cómo los profesionales de cumplimiento pueden desempeñar un papel crucial en la lucha contra el fraude y corrupción. \n¡Discutamos juntos cómo seguir desarrollando el Compliance en Latam! \nInscribite Ahora\n\nPara más información\, [click aquí]
URL:https://eticaycompliance.org/evento/comision-de-gestion-del-fraude-corporativo-5/
CATEGORIES:Reunion
ATTACH;FMTTYPE=image/jpeg:https://eticaycompliance.org/wp-content/uploads/2023/10/Frd-Corporativo-Banner.jpg
END:VEVENT
END:VCALENDAR