BEGIN:VCALENDAR
VERSION:2.0
PRODID:-//Asociación Argentina de Ética y Compliance - ECPv5.14.1//NONSGML v1.0//EN
CALSCALE:GREGORIAN
METHOD:PUBLISH
X-WR-CALNAME:Asociación Argentina de Ética y Compliance
X-ORIGINAL-URL:https://eticaycompliance.org
X-WR-CALDESC:Eventos para Asociación Argentina de Ética y Compliance
BEGIN:VTIMEZONE
TZID:America/Argentina/Buenos_Aires
BEGIN:STANDARD
TZOFFSETFROM:-0300
TZOFFSETTO:-0300
TZNAME:-03
DTSTART:20190101T000000
END:STANDARD
END:VTIMEZONE
BEGIN:VEVENT
DTSTART;TZID=America/Argentina/Buenos_Aires:20190718T180000
DTEND;TZID=America/Argentina/Buenos_Aires:20190718T193000
DTSTAMP:20260421T144115
CREATED:20190828T131053Z
LAST-MODIFIED:20190828T131053Z
UID:4894-1563472800-1563478200@eticaycompliance.org
SUMMARY:Comisión de Gestión del Fraude Corporativo
DESCRIPTION:Reunión de la comisión de Gestión del Fraude Corporativo tuvo lugar el 18 de julio\, con la participación de Pablo Miranda\, ex Director Regional de Compliance para Siemmens\, quien tuvo a cargo una disertación sobre el desarrollo de investigaciones internas desde la perspectiva del Compliance Officer en Latam. \n\n\n\n\n\n\n\n\n\n\n\n\n\n\n\n\n\n 
URL:https://eticaycompliance.org/evento/comision-de-gestion-del-fraude-corporativo-2/
LOCATION:Auditorio BDO Argentina\, Maipú 942\, Ciudad Autonoma de Buenos Aires\, Buenos Aires\, Argentina
CATEGORIES:Reunion
ATTACH;FMTTYPE=image/jpeg:https://eticaycompliance.org/wp-content/uploads/2019/08/Frd.jpg
END:VEVENT
END:VCALENDAR