BEGIN:VCALENDAR
VERSION:2.0
PRODID:-//Asociación Argentina de Ética y Compliance - ECPv5.14.1//NONSGML v1.0//EN
CALSCALE:GREGORIAN
METHOD:PUBLISH
X-WR-CALNAME:Asociación Argentina de Ética y Compliance
X-ORIGINAL-URL:https://eticaycompliance.org
X-WR-CALDESC:Eventos para Asociación Argentina de Ética y Compliance
BEGIN:VTIMEZONE
TZID:UTC
BEGIN:STANDARD
TZOFFSETFROM:+0000
TZOFFSETTO:+0000
TZNAME:UTC
DTSTART:20190101T000000
END:STANDARD
END:VTIMEZONE
BEGIN:VEVENT
DTSTART;TZID=UTC:20191030T180000
DTEND;TZID=UTC:20191030T200000
DTSTAMP:20260421T144452
CREATED:20190912T180147Z
LAST-MODIFIED:20191217T155549Z
UID:4944-1572458400-1572465600@eticaycompliance.org
SUMMARY:Comisión de Especialidades Medicinales y Dispositivos Médicos
DESCRIPTION:El pasado 30 de octubre se realizó el tercer y último encuentro de 2019\, de la Comisión de Especialidades Medicinales y Dispositivos Médicos\, contando con la presencia de Rocío Dell’Oro\, Consultora Independiente en Compliance y Sergio Páez\, Business Ethics & Compliance Manager en Novo Nordisk. Se abordó la problemática de los Comités de Integridad dentro de la industria: su conformación\, funciones\, delegación\, toma de decisiones y su relación con el Compliance Officer\, así como los principales desafíos que se les presentan en la actualidad. La reunión de carácter práctico\, propició un espacio de nutrido debate con el aporte de todos los asistentes. \n  \nAgradecemos a nuestros anfitriones\, Mitrani\, Caballero & Ruiz Moreno Abogados por recibirnos en sus oficinas\, y a todos los asistentes por su activa participación.
URL:https://eticaycompliance.org/evento/comision-de-especialidades-medicinales-y-dispositivos-medicos-2/
LOCATION:Mitrani\, Caballero & Ruiz Moreno Abogados\, Bouchard 680\, Ciudad Autónoma de Buenos Aires
CATEGORIES:Reunion
ATTACH;FMTTYPE=image/jpeg:https://eticaycompliance.org/wp-content/uploads/2019/09/Banner-4.jpg
END:VEVENT
END:VCALENDAR