BEGIN:VCALENDAR
VERSION:2.0
PRODID:-//Asociación Argentina de Ética y Compliance - ECPv5.14.1//NONSGML v1.0//EN
CALSCALE:GREGORIAN
METHOD:PUBLISH
X-WR-CALNAME:Asociación Argentina de Ética y Compliance
X-ORIGINAL-URL:https://eticaycompliance.org
X-WR-CALDESC:Eventos para Asociación Argentina de Ética y Compliance
BEGIN:VTIMEZONE
TZID:UTC
BEGIN:STANDARD
TZOFFSETFROM:+0000
TZOFFSETTO:+0000
TZNAME:UTC
DTSTART:20230101T000000
END:STANDARD
END:VTIMEZONE
BEGIN:VEVENT
DTSTART;TZID=UTC:20230607T173000
DTEND;TZID=UTC:20230607T190000
DTSTAMP:20260423T073604
CREATED:20230524T211130Z
LAST-MODIFIED:20230524T211130Z
UID:8351-1686159000-1686164400@eticaycompliance.org
SUMMARY:Comisión de Diversidad
DESCRIPTION:Los invitamos a participar de este encuentro-taller especial\, donde mediante lo lúdico podremos conectar y lograr sensibilizar\, generando alto impacto en lo personal y en nuestras organizaciones. \n  \n¡No se lo pierdan! \nInscribite Ahora
URL:https://eticaycompliance.org/evento/comision-de-diversidad-3/
ATTACH;FMTTYPE=image/jpeg:https://eticaycompliance.org/wp-content/uploads/2023/05/Diversidad.jpg
END:VEVENT
END:VCALENDAR