BEGIN:VCALENDAR
VERSION:2.0
PRODID:-//Asociación Argentina de Ética y Compliance - ECPv5.14.1//NONSGML v1.0//EN
CALSCALE:GREGORIAN
METHOD:PUBLISH
X-WR-CALNAME:Asociación Argentina de Ética y Compliance
X-ORIGINAL-URL:https://eticaycompliance.org
X-WR-CALDESC:Eventos para Asociación Argentina de Ética y Compliance
BEGIN:VTIMEZONE
TZID:UTC
BEGIN:STANDARD
TZOFFSETFROM:+0000
TZOFFSETTO:+0000
TZNAME:UTC
DTSTART:20230101T000000
END:STANDARD
END:VTIMEZONE
BEGIN:VEVENT
DTSTART;TZID=UTC:20230920T173000
DTEND;TZID=UTC:20230920T190000
DTSTAMP:20260423T040947
CREATED:20230906T145658Z
LAST-MODIFIED:20230906T170822Z
UID:8596-1695231000-1695236400@eticaycompliance.org
SUMMARY:Comisión de Data Privacy & Ética Digital
DESCRIPTION:Las organizaciones se dividen en aquellas que tienen conocimiento de haber sufrido incidentes de ciberseguridad y aquellas que todavía no se enteraron pese a estar padeciéndolos. \nNos acompañará Marcela Pallero\, ingeniera en sistemas de información (UTN)\, especialista en criptografía y seguridad teleinformática (ESTE) para abordar esta desafiante temática. \n¡No te lo pierdas! \n\n\nInscribite Ahora\n\nPara más información\, [click aquí]
URL:https://eticaycompliance.org/evento/comision-de-data-privacy-etica-digital-6/
ATTACH;FMTTYPE=image/jpeg:https://eticaycompliance.org/wp-content/uploads/2023/09/Data-Privacy-Banner.jpg
END:VEVENT
END:VCALENDAR