BEGIN:VCALENDAR
VERSION:2.0
PRODID:-//Asociación Argentina de Ética y Compliance - ECPv5.14.1//NONSGML v1.0//EN
CALSCALE:GREGORIAN
METHOD:PUBLISH
X-WR-CALNAME:Asociación Argentina de Ética y Compliance
X-ORIGINAL-URL:https://eticaycompliance.org
X-WR-CALDESC:Eventos para Asociación Argentina de Ética y Compliance
BEGIN:VTIMEZONE
TZID:UTC
BEGIN:STANDARD
TZOFFSETFROM:+0000
TZOFFSETTO:+0000
TZNAME:UTC
DTSTART:20230101T000000
END:STANDARD
END:VTIMEZONE
BEGIN:VEVENT
DTSTART;VALUE=DATE:20230614
DTEND;VALUE=DATE:20230615
DTSTAMP:20260423T074607
CREATED:20230602T194755Z
LAST-MODIFIED:20230602T194755Z
UID:8386-1686700800-1686787199@eticaycompliance.org
SUMMARY:Comisión de Behavioral Compliance
DESCRIPTION:Próximamente más información
URL:https://eticaycompliance.org/evento/comision-de-behavioral-compliance-4/
END:VEVENT
END:VCALENDAR