BEGIN:VCALENDAR
VERSION:2.0
PRODID:-//Asociación Argentina de Ética y Compliance - ECPv5.14.1//NONSGML v1.0//EN
CALSCALE:GREGORIAN
METHOD:PUBLISH
X-WR-CALNAME:Asociación Argentina de Ética y Compliance
X-ORIGINAL-URL:https://eticaycompliance.org
X-WR-CALDESC:Eventos para Asociación Argentina de Ética y Compliance
BEGIN:VTIMEZONE
TZID:UTC
BEGIN:STANDARD
TZOFFSETFROM:+0000
TZOFFSETTO:+0000
TZNAME:UTC
DTSTART:20230101T000000
END:STANDARD
END:VTIMEZONE
BEGIN:VEVENT
DTSTART;TZID=UTC:20230629T090000
DTEND;TZID=UTC:20230629T103000
DTSTAMP:20260423T054738
CREATED:20230404T165039Z
LAST-MODIFIED:20230626T163124Z
UID:8288-1688029200-1688034600@eticaycompliance.org
SUMMARY:Club del Compliance Officer
DESCRIPTION:En este Club contaremos con la visita de Matías Grimberg\, experto en IA y Machine Learning. Quién nos contará que implica para él impulsar la IA ética\, con impacto social y ecológico. Y cómo ve desde su perspectiva el impacto de la IA en el ser humano y la sociedad actual argentina. Una perspectiva muy interesante para el ejercicio de nuestra profesión en Compliance.\n \nInscribite Ahora\n\n 
URL:https://eticaycompliance.org/evento/club-del-compliance-officer-15/
CATEGORIES:Reunion
ATTACH;FMTTYPE=image/jpeg:https://eticaycompliance.org/wp-content/uploads/2023/04/CCO-JUNIO-Banner.jpg
END:VEVENT
END:VCALENDAR