BEGIN:VCALENDAR
VERSION:2.0
PRODID:-//Asociación Argentina de Ética y Compliance - ECPv5.14.1//NONSGML v1.0//EN
CALSCALE:GREGORIAN
METHOD:PUBLISH
X-WR-CALNAME:Asociación Argentina de Ética y Compliance
X-ORIGINAL-URL:https://eticaycompliance.org
X-WR-CALDESC:Eventos para Asociación Argentina de Ética y Compliance
BEGIN:VTIMEZONE
TZID:UTC
BEGIN:STANDARD
TZOFFSETFROM:+0000
TZOFFSETTO:+0000
TZNAME:UTC
DTSTART:20230101T000000
END:STANDARD
END:VTIMEZONE
BEGIN:VEVENT
DTSTART;TZID=UTC:20231026T090000
DTEND;TZID=UTC:20231026T103000
DTSTAMP:20260423T005240
CREATED:20231020T173716Z
LAST-MODIFIED:20231020T173716Z
UID:8702-1698310800-1698316200@eticaycompliance.org
SUMMARY:Club del Compliance Officer
DESCRIPTION:El Dr. José Lucas Magioncalda nos compartirá conocimientos sobre prácticas y normas de transparencia que el ciudadano debe conocer y podría utilizar. A cuáles Argentina adhirió cumplimiento y que pendientes hay sobre esto. \n  \nInscribite Ahora\n\n  \nPara más información\, [click aquí]\n 
URL:https://eticaycompliance.org/evento/club-del-compliance-officer-14/
CATEGORIES:Reunion
ATTACH;FMTTYPE=image/jpeg:https://eticaycompliance.org/wp-content/uploads/2023/10/CCO-OCT-Banner.jpg
END:VEVENT
END:VCALENDAR