BEGIN:VCALENDAR
VERSION:2.0
PRODID:-//Asociación Argentina de Ética y Compliance - ECPv5.14.1//NONSGML v1.0//EN
CALSCALE:GREGORIAN
METHOD:PUBLISH
X-WR-CALNAME:Asociación Argentina de Ética y Compliance
X-ORIGINAL-URL:https://eticaycompliance.org
X-WR-CALDESC:Eventos para Asociación Argentina de Ética y Compliance
BEGIN:VTIMEZONE
TZID:UTC
BEGIN:STANDARD
TZOFFSETFROM:+0000
TZOFFSETTO:+0000
TZNAME:UTC
DTSTART:20230101T000000
END:STANDARD
END:VTIMEZONE
BEGIN:VEVENT
DTSTART;TZID=UTC:20230727T090000
DTEND;TZID=UTC:20230727T103000
DTSTAMP:20260423T060201
CREATED:20230718T154835Z
LAST-MODIFIED:20230719T143110Z
UID:8497-1690448400-1690453800@eticaycompliance.org
SUMMARY:Club del Compliance Officer
DESCRIPTION:Contaremos con la visita de Gustavo Giorgetti quien nos dará un enfoque sobre transformaciones digitales sustentables en ecosistemas complejos\, innovación responsable\, inteligencia colectiva y Gobernanza Dinámica.\n \n  \nInscribite Ahora\n\n  \nPara más información\, [click aquí]\n 
URL:https://eticaycompliance.org/evento/club-del-compliance-officer-13/
CATEGORIES:Reunion
ATTACH;FMTTYPE=image/jpeg:https://eticaycompliance.org/wp-content/uploads/2023/07/CCO-JULIO-Banner.jpg
END:VEVENT
END:VCALENDAR